BEGIN:VCALENDAR
VERSION:2.0
PRODID:-//hacksw/handcal//NONSGML v1.0//EN
CALSCALE:GREGORIAN
BEGIN:VEVENT
LOCATION:
SUMMARY:Les parcs solaires photovoltaïques au sol consomment-ils des terres agricoles ?
DESCRIPTION:Les parcs solaires photovoltaïques au sol consomment-ils des terres agricoles ?
DTSTART:20200916T120000
DTEND:20200916T131500
URL;VALUE=URI:https://energy-cities.eu/fr/evenement/les-parcs-solaires-photovoltaiques-au-sol-consomment-ils-des-terres-agricoles/
DTSTAMP:now
UID:65977102c4245
END:VEVENT
END:VCALENDAR