BEGIN:VCALENDAR
VERSION:2.0
PRODID:-//hacksw/handcal//NONSGML v1.0//EN
CALSCALE:GREGORIAN
BEGIN:VEVENT
LOCATION:
SUMMARY:Lessons from last winter &#8211\; fighting energy poverty and ill-health
DESCRIPTION:Lessons from last winter &#8211\; fighting energy poverty and ill-health
DTSTART:20230510T100000
DTEND:20230510T113000
URL;VALUE=URI:https://energy-cities.eu/event/lessons-from-last-winter-fighting-energy-poverty-and-ill-health/
DTSTAMP:now
UID:659767e5c942c
END:VEVENT
END:VCALENDAR