BEGIN:VCALENDAR
VERSION:2.0
PRODID:-//hacksw/handcal//NONSGML v1.0//EN
CALSCALE:GREGORIAN
BEGIN:VEVENT
LOCATION:
SUMMARY:Leveraging on co-creation to decarbonise heating systems
DESCRIPTION:Leveraging on co-creation to decarbonise heating systems
DTSTART:20230214T100000
DTEND:20230214T120000
URL;VALUE=URI:https://energy-cities.eu/event/leveraging-on-co-creation-to-decarbonise-heating-systems/
DTSTAMP:now
UID:65976cd3b291a
END:VEVENT
END:VCALENDAR