BEGIN:VCALENDAR
VERSION:2.0
PRODID:-//hacksw/handcal//NONSGML v1.0//EN
CALSCALE:GREGORIAN
BEGIN:VEVENT
LOCATION:
SUMMARY:Leveraging the potential of local innovation &#8211\; Covenant cities showing the way
DESCRIPTION:Leveraging the potential of local innovation &#8211\; Covenant cities showing the way
DTSTART:20220224T093000
DTEND:20220224T113000
URL;VALUE=URI:https://energy-cities.eu/event/leveraging-the-potential-of-local-innovation-covenant-cities-showing-the-way/
DTSTAMP:now
UID:6597768cca835
END:VEVENT
END:VCALENDAR