BEGIN:VCALENDAR
VERSION:2.0
PRODID:-//hacksw/handcal//NONSGML v1.0//EN
CALSCALE:GREGORIAN
BEGIN:VEVENT
LOCATION:
SUMMARY:Live Chat #2 – How is the Covid crisis reframing the priorities in our cities?
DESCRIPTION:Live Chat #2 – How is the Covid crisis reframing the priorities in our cities?
DTSTART:20200514T013000
DTEND:20200514T023000
URL;VALUE=URI:https://energy-cities.eu/event/live-chat-2-how-is-the-covid-crisis-reframing-the-priorities-in-our-cities/
DTSTAMP:now
UID:659777618225e
END:VEVENT
END:VCALENDAR