BEGIN:VCALENDAR
VERSION:2.0
PRODID:-//hacksw/handcal//NONSGML v1.0//EN
CALSCALE:GREGORIAN
BEGIN:VEVENT
LOCATION:
SUMMARY:Live Chat #3 – The Covenant of Mayors\, a building block of the European Climate Pact
DESCRIPTION:Live Chat #3 – The Covenant of Mayors\, a building block of the European Climate Pact
DTSTART:20200528T013000
DTEND:20200528T023000
URL;VALUE=URI:https://energy-cities.eu/event/live-chat-3-the-covenant-of-mayors-a-building-block-of-the-european-climate-pact/
DTSTAMP:now
UID:659777a0be8bc
END:VEVENT
END:VCALENDAR