BEGIN:VCALENDAR
VERSION:2.0
PRODID:-//hacksw/handcal//NONSGML v1.0//EN
CALSCALE:GREGORIAN
BEGIN:VEVENT
LOCATION:
SUMMARY:Live Chat #4 &#8211\; Is gas the only shortcut to a green energy system?
DESCRIPTION:Live Chat #4 &#8211\; Is gas the only shortcut to a green energy system?
DTSTART:20200604T013000
DTEND:20200604T023000
URL;VALUE=URI:https://energy-cities.eu/event/live-chat-4-is-gas-the-only-shortcut-to-a-green-energy-system/
DTSTAMP:now
UID:65976bc909712
END:VEVENT
END:VCALENDAR