BEGIN:VCALENDAR
VERSION:2.0
PRODID:-//hacksw/handcal//NONSGML v1.0//EN
CALSCALE:GREGORIAN
BEGIN:VEVENT
LOCATION:
SUMMARY:Live Chat #5 &#8211\; Énergie &#038\; alimentation : Une ville peut-elle réellement (et doit-elle) viser l’autonomie alimentaire ?
DESCRIPTION:Live Chat #5 &#8211\; Énergie &#038\; alimentation : Une ville peut-elle réellement (et doit-elle) viser l’autonomie alimentaire ?
DTSTART:20200608T013000
DTEND:20200608T023000
URL;VALUE=URI:https://energy-cities.eu/fr/evenement/live-chat-bonus-energie-alimentation-une-ville-peut-elle-reellement-et-doit-elle-viser-lautonomie-alimentaire/
DTSTAMP:now
UID:659768580f683
END:VEVENT
END:VCALENDAR