BEGIN:VCALENDAR
VERSION:2.0
PRODID:-//hacksw/handcal//NONSGML v1.0//EN
CALSCALE:GREGORIAN
BEGIN:VEVENT
LOCATION:
SUMMARY:Live Chat #6 &#8211\; Tools to plan towards net-zero emissions – The example of ClimateView
DESCRIPTION:Live Chat #6 &#8211\; Tools to plan towards net-zero emissions – The example of ClimateView
DTSTART:20200611T013000
DTEND:20200611T023000
URL;VALUE=URI:https://energy-cities.eu/event/live-chat-5-tools-to-plan-towards-net-zero-emissions-the-example-of-climateview/
DTSTAMP:now
UID:65976893cda35
END:VEVENT
END:VCALENDAR