BEGIN:VCALENDAR
VERSION:2.0
PRODID:-//hacksw/handcal//NONSGML v1.0//EN
CALSCALE:GREGORIAN
BEGIN:VEVENT
LOCATION:
SUMMARY:Live Chat #7 – How can community energy benefit your city?
DESCRIPTION:Live Chat #7 – How can community energy benefit your city?
DTSTART:20200618T133000
DTEND:20200618T143000
URL;VALUE=URI:https://energy-cities.eu/event/live-chat-7-how-can-community-energy-benefit-your-city/
DTSTAMP:now
UID:659770c928969
END:VEVENT
END:VCALENDAR