BEGIN:VCALENDAR
VERSION:2.0
PRODID:-//hacksw/handcal//NONSGML v1.0//EN
CALSCALE:GREGORIAN
BEGIN:VEVENT
LOCATION:
SUMMARY:Live Chat #8 – Climate urgency and pandemic: What synergies and tangible opportunities for cities?
DESCRIPTION:Live Chat #8 – Climate urgency and pandemic: What synergies and tangible opportunities for cities?
DTSTART:20200625T133000
DTEND:20200625T143000
URL;VALUE=URI:https://energy-cities.eu/event/live-chat-8-climate-urgency-and-pandemic-what-synergies-and-tangible-opportunities-for-cities/
DTSTAMP:now
UID:659763f6d257a
END:VEVENT
END:VCALENDAR