BEGIN:VCALENDAR
VERSION:2.0
PRODID:-//hacksw/handcal//NONSGML v1.0//EN
CALSCALE:GREGORIAN
BEGIN:VEVENT
LOCATION:
SUMMARY:Local Energy Communities and Their Contribution to the EU Green Deal : FIWARE Energy DAY &#8211\; Edition 2
DESCRIPTION:Local Energy Communities and Their Contribution to the EU Green Deal : FIWARE Energy DAY &#8211\; Edition 2
DTSTART:20210128T160000
DTEND:20210128T180000
URL;VALUE=URI:https://energy-cities.eu/event/local-energy-communities-and-their-contribution-to-the-eu-green-deal-fiware-energy-day-edition-2/
DTSTAMP:now
UID:659765c648b8d
END:VEVENT
END:VCALENDAR