BEGIN:VCALENDAR
VERSION:2.0
PRODID:-//hacksw/handcal//NONSGML v1.0//EN
CALSCALE:GREGORIAN
BEGIN:VEVENT
LOCATION:
SUMMARY:Locked down but powered up! Live Chat #1 &#8211\; Energy sufficiency
DESCRIPTION:Locked down but powered up! Live Chat #1 &#8211\; Energy sufficiency
DTSTART:20200507T133000
DTEND:20200507T143000
URL;VALUE=URI:https://energy-cities.eu/event/locked-down-but-powered-up-1-energy-sufficiency/
DTSTAMP:now
UID:659770cd7f189
END:VEVENT
END:VCALENDAR