BEGIN:VCALENDAR
VERSION:2.0
PRODID:-//hacksw/handcal//NONSGML v1.0//EN
CALSCALE:GREGORIAN
BEGIN:VEVENT
LOCATION:
SUMMARY:Lund – A winner of One Planet City Challenge 2022
DESCRIPTION:Lund – A winner of One Planet City Challenge 2022
DTSTART:20230208T090000
DTEND:20230208T100000
URL;VALUE=URI:https://energy-cities.eu/event/lund-a-winner-of-one-planet-city-challenge-2022/
DTSTAMP:now
UID:6597773b154e7
END:VEVENT
END:VCALENDAR