BEGIN:VCALENDAR
VERSION:2.0
PRODID:-//hacksw/handcal//NONSGML v1.0//EN
CALSCALE:GREGORIAN
BEGIN:VEVENT
LOCATION:
SUMMARY:MARMARA URBAN FORUM : Cities developing solutions\, Re-Think\, Co-Act
DESCRIPTION:MARMARA URBAN FORUM : Cities developing solutions\, Re-Think\, Co-Act
DTSTART:20211001T000000
DTEND:20211003T000000
URL;VALUE=URI:https://energy-cities.eu/event/marmara-urban-forum-cities-developing-solutions-re-think-co-act/
DTSTAMP:now
UID:65976dfcc3150
END:VEVENT
END:VCALENDAR