BEGIN:VCALENDAR
VERSION:2.0
PRODID:-//hacksw/handcal//NONSGML v1.0//EN
CALSCALE:GREGORIAN
BEGIN:VEVENT
LOCATION:
SUMMARY:Making Decarbonisation Fair: Exploring the relationship between energy poverty and decarbonisation policies in Europe
DESCRIPTION:Making Decarbonisation Fair: Exploring the relationship between energy poverty and decarbonisation policies in Europe
DTSTART:20210301T000000
DTEND:20210304T000000
URL;VALUE=URI:https://energy-cities.eu/event/making-decarbonisation-fair-exploring-the-relationship-between-energy-poverty-and-decarbonisation-policies-in-europe/
DTSTAMP:now
UID:6597764f3084e
END:VEVENT
END:VCALENDAR