BEGIN:VCALENDAR
VERSION:2.0
PRODID:-//hacksw/handcal//NONSGML v1.0//EN
CALSCALE:GREGORIAN
BEGIN:VEVENT
LOCATION:
SUMMARY:Making our School Buildings Energy Efficient
DESCRIPTION:Making our School Buildings Energy Efficient
DTSTART:20220301T110000
DTEND:20220301T121500
URL;VALUE=URI:https://energy-cities.eu/event/making-our-school-buildings-energy-efficient/
DTSTAMP:now
UID:659771ec1bb5b
END:VEVENT
END:VCALENDAR