BEGIN:VCALENDAR
VERSION:2.0
PRODID:-//hacksw/handcal//NONSGML v1.0//EN
CALSCALE:GREGORIAN
BEGIN:VEVENT
LOCATION:
SUMMARY:Making the European Green Deal Strong and Real: Harnessing the Power of community-led Initiatives and Local Governments
DESCRIPTION:Making the European Green Deal Strong and Real: Harnessing the Power of community-led Initiatives and Local Governments
DTSTART:20231107T023000
DTEND:20231107T180000
URL;VALUE=URI:https://energy-cities.eu/event/making-the-european-green-deal-strong-and-real-harnessing-the-power-of-community-led-initiatives-and-local-governments/
DTSTAMP:now
UID:6597642162195
END:VEVENT
END:VCALENDAR