BEGIN:VCALENDAR
VERSION:2.0
PRODID:-//hacksw/handcal//NONSGML v1.0//EN
CALSCALE:GREGORIAN
BEGIN:VEVENT
LOCATION:
SUMMARY:Meet the ACR five Thematic Areas
DESCRIPTION:Meet the ACR five Thematic Areas
DTSTART:20230920T100000
DTEND:20230920T000000
URL;VALUE=URI:https://energy-cities.eu/event/meet-the-acrfive-thematic-areas/
DTSTAMP:now
UID:6597686e52a14
END:VEVENT
END:VCALENDAR