BEGIN:VCALENDAR
VERSION:2.0
PRODID:-//hacksw/handcal//NONSGML v1.0//EN
CALSCALE:GREGORIAN
BEGIN:VEVENT
LOCATION:
SUMMARY:Mobilité : penser et imaginer les indispensables sobriétés
DESCRIPTION:Mobilité : penser et imaginer les indispensables sobriétés
DTSTART:20200915T120000
DTEND:20200915T131500
URL;VALUE=URI:https://energy-cities.eu/fr/evenement/mobilite-penser-et-imaginer-les-indispensables-sobrietes/
DTSTAMP:now
UID:659766b3d18af
END:VEVENT
END:VCALENDAR