BEGIN:VCALENDAR
VERSION:2.0
PRODID:-//hacksw/handcal//NONSGML v1.0//EN
CALSCALE:GREGORIAN
BEGIN:VEVENT
LOCATION:
SUMMARY:Monitoring and Evaluating Adaptation Action
DESCRIPTION:Monitoring and Evaluating Adaptation Action
DTSTART:20191126T110000
DTEND:20191126T003000
URL;VALUE=URI:https://energy-cities.eu/event/monitoring-and-evaluating-adaptation-action/
DTSTAMP:now
UID:659767644e409
END:VEVENT
END:VCALENDAR