BEGIN:VCALENDAR
VERSION:2.0
PRODID:-//hacksw/handcal//NONSGML v1.0//EN
CALSCALE:GREGORIAN
BEGIN:VEVENT
LOCATION:
SUMMARY:Mortgage Portfolio Standards: An innovative approach to underwrite the Renovation Wave
DESCRIPTION:Mortgage Portfolio Standards: An innovative approach to underwrite the Renovation Wave
DTSTART:20211014T150000
DTEND:20211014T163000
URL;VALUE=URI:https://energy-cities.eu/event/mortgage-portfolio-standards-an-innovative-approach-to-underwrite-the-renovation-wave/
DTSTAMP:now
UID:659768cf3281a
END:VEVENT
END:VCALENDAR