BEGIN:VCALENDAR
VERSION:2.0
PRODID:-//hacksw/handcal//NONSGML v1.0//EN
CALSCALE:GREGORIAN
BEGIN:VEVENT
LOCATION:
SUMMARY:Moving forward heating decarbonisation with the Helsinki Energy Challenge
DESCRIPTION:Moving forward heating decarbonisation with the Helsinki Energy Challenge
DTSTART:20210623T103000
DTEND:20210623T113000
URL;VALUE=URI:https://energy-cities.eu/event/moving-forward-heating-decarbonisation-with-the-helsinki-energy-challenge/
DTSTAMP:now
UID:6597712ea5fe8
END:VEVENT
END:VCALENDAR