BEGIN:VCALENDAR
VERSION:2.0
PRODID:-//hacksw/handcal//NONSGML v1.0//EN
CALSCALE:GREGORIAN
BEGIN:VEVENT
LOCATION:
SUMMARY:Moving towards fossil-free districts: What&#8217\;s in it for my city?
DESCRIPTION:Moving towards fossil-free districts: What&#8217\;s in it for my city?
DTSTART:20220616T130000
DTEND:20220616T140000
URL;VALUE=URI:https://energy-cities.eu/event/moving-towards-fossil-free-districts-whats-in-it-for-my-city/
DTSTAMP:now
UID:65976ec729610
END:VEVENT
END:VCALENDAR