BEGIN:VCALENDAR
VERSION:2.0
PRODID:-//hacksw/handcal//NONSGML v1.0//EN
CALSCALE:GREGORIAN
BEGIN:VEVENT
LOCATION:
SUMMARY:Municipalist Strategies for a Just Energy Transition
DESCRIPTION:Municipalist Strategies for a Just Energy Transition
DTSTART:20220929T140000
DTEND:20220929T150000
URL;VALUE=URI:https://energy-cities.eu/event/municipalist-strategies-for-a-just-energy-transition/
DTSTAMP:now
UID:65976d2c80b8b
END:VEVENT
END:VCALENDAR