BEGIN:VCALENDAR
VERSION:2.0
PRODID:-//hacksw/handcal//NONSGML v1.0//EN
CALSCALE:GREGORIAN
BEGIN:VEVENT
LOCATION:
SUMMARY:NEW EUROPEAN BAUHAUS CONFERENCE
DESCRIPTION:NEW EUROPEAN BAUHAUS CONFERENCE
DTSTART:20210422T000000
DTEND:20210423T000000
URL;VALUE=URI:https://energy-cities.eu/event/new-european-bauhaus-conference/
DTSTAMP:now
UID:65976c8baf783
END:VEVENT
END:VCALENDAR