BEGIN:VCALENDAR
VERSION:2.0
PRODID:-//hacksw/handcal//NONSGML v1.0//EN
CALSCALE:GREGORIAN
BEGIN:VEVENT
LOCATION:
SUMMARY:New European Bauhaus &#8211\; Webinaire pour nos membres
DESCRIPTION:New European Bauhaus &#8211\; Webinaire pour nos membres
DTSTART:20210517T140000
DTEND:20210517T150000
URL;VALUE=URI:https://energy-cities.eu/fr/evenement/new-european-bauhaus-webinaire-pour-nos-membres/
DTSTAMP:now
UID:65976774e85f8
END:VEVENT
END:VCALENDAR