BEGIN:VCALENDAR
VERSION:2.0
PRODID:-//hacksw/handcal//NONSGML v1.0//EN
CALSCALE:GREGORIAN
BEGIN:VEVENT
LOCATION:
SUMMARY:Nordic CityMaking Week 2021 : Common ground – common place
DESCRIPTION:Nordic CityMaking Week 2021 : Common ground – common place
DTSTART:20210921T000000
DTEND:20210925T000000
URL;VALUE=URI:https://energy-cities.eu/event/nordic-citymaking-week-2021-common-ground-common-place/
DTSTAMP:now
UID:6597763568a97
END:VEVENT
END:VCALENDAR