BEGIN:VCALENDAR
VERSION:2.0
PRODID:-//hacksw/handcal//NONSGML v1.0//EN
CALSCALE:GREGORIAN
BEGIN:VEVENT
LOCATION:
SUMMARY:Numérique : peut-on passer de la gabegie à la sobriété ?
DESCRIPTION:Numérique : peut-on passer de la gabegie à la sobriété ?
DTSTART:20200918T120000
DTEND:20200918T131500
URL;VALUE=URI:https://energy-cities.eu/fr/evenement/numerique-peut-on-passer-de-la-gabegie-a-la-sobriete/
DTSTAMP:now
UID:65976310d5546
END:VEVENT
END:VCALENDAR