BEGIN:VCALENDAR
VERSION:2.0
PRODID:-//hacksw/handcal//NONSGML v1.0//EN
CALSCALE:GREGORIAN
BEGIN:VEVENT
LOCATION:
SUMMARY:Official launch event of the European Climate Pact
DESCRIPTION:Official launch event of the European Climate Pact
DTSTART:20201216T090000
DTEND:20201216T110000
URL;VALUE=URI:https://energy-cities.eu/event/official-launch-event-of-the-european-climate-pact/
DTSTAMP:now
UID:65976f407eb76
END:VEVENT
END:VCALENDAR