BEGIN:VCALENDAR
VERSION:2.0
PRODID:-//hacksw/handcal//NONSGML v1.0//EN
CALSCALE:GREGORIAN
BEGIN:VEVENT
LOCATION:
SUMMARY:Online training for politicians &#8211\; Climate Adaptation\, an action of the Climate Adaptation Partnership of the EU Urban Agenda
DESCRIPTION:Online training for politicians &#8211\; Climate Adaptation\, an action of the Climate Adaptation Partnership of the EU Urban Agenda
DTSTART:20201204T110000
DTEND:20201204T123000
URL;VALUE=URI:https://energy-cities.eu/event/online-training-for-politicians-climate-adaptation-an-action-of-the-climate-adaptation-partnership-of-the-eu-urban-agenda/
DTSTAMP:now
UID:65976e672f016
END:VEVENT
END:VCALENDAR