BEGIN:VCALENDAR
VERSION:2.0
PRODID:-//hacksw/handcal//NONSGML v1.0//EN
CALSCALE:GREGORIAN
BEGIN:VEVENT
LOCATION:
SUMMARY:Online training on the EnerMaps tool
DESCRIPTION:Online training on the EnerMaps tool
DTSTART:20220408T133000
DTEND:20220408T160000
URL;VALUE=URI:https://energy-cities.eu/event/online-training-on-the-enermaps-tool/
DTSTAMP:now
UID:659764bad7b47
END:VEVENT
END:VCALENDAR