BEGIN:VCALENDAR
VERSION:2.0
PRODID:-//hacksw/handcal//NONSGML v1.0//EN
CALSCALE:GREGORIAN
BEGIN:VEVENT
LOCATION:
SUMMARY:Organising the energy transition
DESCRIPTION:Organising the energy transition
DTSTART:20200401T000000
DTEND:20200401T000000
URL;VALUE=URI:https://energy-cities.eu/event/organising-the-energy-transition/
DTSTAMP:now
UID:65977765174c2
END:VEVENT
END:VCALENDAR