BEGIN:VCALENDAR
VERSION:2.0
PRODID:-//hacksw/handcal//NONSGML v1.0//EN
CALSCALE:GREGORIAN
BEGIN:VEVENT
LOCATION:
SUMMARY:Oser la sobriété au niveau municipal pour lutter contre le changement climatique
DESCRIPTION:Oser la sobriété au niveau municipal pour lutter contre le changement climatique
DTSTART:20220406T100000
DTEND:20220406T113000
URL;VALUE=URI:https://energy-cities.eu/fr/evenement/oser-la-sobriete-au-niveau-municipal-pour-lutter-contre-le-changement-climatique/
DTSTAMP:now
UID:659775f6eff08
END:VEVENT
END:VCALENDAR