BEGIN:VCALENDAR
VERSION:2.0
PRODID:-//hacksw/handcal//NONSGML v1.0//EN
CALSCALE:GREGORIAN
BEGIN:VEVENT
LOCATION:
SUMMARY:PATH2LC ONLINE TALK #1: Making the EU climate neutral by 2050: how to translate climate neutrality into local strategies?
DESCRIPTION:PATH2LC ONLINE TALK #1: Making the EU climate neutral by 2050: how to translate climate neutrality into local strategies?
DTSTART:20210625T100000
DTEND:20210625T120000
URL;VALUE=URI:https://energy-cities.eu/event/path2lc-online-talk-1-making-the-eu-climate-neutral-by-2050-how-to-translate-climate-neutrality-into-local-strategies/
DTSTAMP:now
UID:65976417261d8
END:VEVENT
END:VCALENDAR