BEGIN:VCALENDAR
VERSION:2.0
PRODID:-//hacksw/handcal//NONSGML v1.0//EN
CALSCALE:GREGORIAN
BEGIN:VEVENT
LOCATION:
SUMMARY:PATH2LC Webinar Series: Governing &#038\; Planning the Transition
DESCRIPTION:PATH2LC Webinar Series: Governing &#038\; Planning the Transition
DTSTART:20211026T103000
DTEND:20211026T120000
URL;VALUE=URI:https://energy-cities.eu/event/webinar-series-governing-planning-the-transition-3/
DTSTAMP:now
UID:65977611cecbd
END:VEVENT
END:VCALENDAR