BEGIN:VCALENDAR
VERSION:2.0
PRODID:-//hacksw/handcal//NONSGML v1.0//EN
CALSCALE:GREGORIAN
BEGIN:VEVENT
LOCATION:
SUMMARY:POLIS Annual Conference
DESCRIPTION:POLIS Annual Conference
DTSTART:20201130T000000
DTEND:20201203T000000
URL;VALUE=URI:https://energy-cities.eu/event/polis-annual-conference-2/
DTSTAMP:now
UID:659769f91befe
END:VEVENT
END:VCALENDAR