BEGIN:VCALENDAR
VERSION:2.0
PRODID:-//hacksw/handcal//NONSGML v1.0//EN
CALSCALE:GREGORIAN
BEGIN:VEVENT
LOCATION:
SUMMARY:Plan de transformation : comment financer la transition écologique ?
DESCRIPTION:Plan de transformation : comment financer la transition écologique ?
DTSTART:20200914T120000
DTEND:20200914T131500
URL;VALUE=URI:https://energy-cities.eu/fr/evenement/plan-de-transformation-comment-financer-la-transition-ecologique/
DTSTAMP:now
UID:6597692ee2870
END:VEVENT
END:VCALENDAR