BEGIN:VCALENDAR
VERSION:2.0
PRODID:-//hacksw/handcal//NONSGML v1.0//EN
CALSCALE:GREGORIAN
BEGIN:VEVENT
LOCATION:
SUMMARY:Planification locale thermique – une nouvelle obligation européenne\, quid des expériences françaises et allemandes.
DESCRIPTION:Planification locale thermique – une nouvelle obligation européenne\, quid des expériences françaises et allemandes.
DTSTART:20231211T140000
DTEND:20231211T153000
URL;VALUE=URI:https://energy-cities.eu/fr/evenement/planification-locale-thermique-une-nouvelle-obligation-europeenne-quid-des-experiences-francaises-et-allemandes/
DTSTAMP:now
UID:65976e8b5ab7c
END:VEVENT
END:VCALENDAR