BEGIN:VCALENDAR
VERSION:2.0
PRODID:-//hacksw/handcal//NONSGML v1.0//EN
CALSCALE:GREGORIAN
BEGIN:VEVENT
LOCATION:
SUMMARY:Policy Dialogue: from traditional subsidies to innovative financing
DESCRIPTION:Policy Dialogue: from traditional subsidies to innovative financing
DTSTART:20231115T103000
DTEND:20231115T003000
URL;VALUE=URI:https://energy-cities.eu/event/policy-dialogue-from-traditional-subsidies-to-innovative-financing/
DTSTAMP:now
UID:659763cbd25fe
END:VEVENT
END:VCALENDAR