BEGIN:VCALENDAR
VERSION:2.0
PRODID:-//hacksw/handcal//NONSGML v1.0//EN
CALSCALE:GREGORIAN
BEGIN:VEVENT
LOCATION:
SUMMARY:Positive energy districts: accelerating the journey towards urban energy transitions (Webinar 1/4)
DESCRIPTION:Positive energy districts: accelerating the journey towards urban energy transitions (Webinar 1/4)
DTSTART:20230113T123000
DTEND:20230113T133000
URL;VALUE=URI:https://energy-cities.eu/event/positive-energy-districts-accelerating-the-journey-towards-urban-energy-transitions/
DTSTAMP:now
UID:65976e6d8a15c
END:VEVENT
END:VCALENDAR