BEGIN:VCALENDAR
VERSION:2.0
PRODID:-//hacksw/handcal//NONSGML v1.0//EN
CALSCALE:GREGORIAN
BEGIN:VEVENT
LOCATION:
SUMMARY:Positive energy districts: accelerating the journey towards urban energy transitions (Webinar 2/4)
DESCRIPTION:Positive energy districts: accelerating the journey towards urban energy transitions (Webinar 2/4)
DTSTART:20230120T123000
DTEND:20230120T133000
URL;VALUE=URI:https://energy-cities.eu/event/positive-energy-districts-accelerating-the-journey-towards-urban-energy-transitions-2/
DTSTAMP:now
UID:65977682cf3a3
END:VEVENT
END:VCALENDAR