BEGIN:VCALENDAR
VERSION:2.0
PRODID:-//hacksw/handcal//NONSGML v1.0//EN
CALSCALE:GREGORIAN
BEGIN:VEVENT
LOCATION:
SUMMARY:Potential of geothermal energy for heat transformation in cities
DESCRIPTION:Potential of geothermal energy for heat transformation in cities
DTSTART:20210430T100000
DTEND:20210430T120000
URL;VALUE=URI:https://energy-cities.eu/event/potential-of-geothermal-energy-for-heat-transformation-in-cities/
DTSTAMP:now
UID:65976ee732c9b
END:VEVENT
END:VCALENDAR