BEGIN:VCALENDAR
VERSION:2.0
PRODID:-//hacksw/handcal//NONSGML v1.0//EN
CALSCALE:GREGORIAN
BEGIN:VEVENT
LOCATION:
SUMMARY:Power to the people: delivering energy justice through community energy &#8211\; Right to Energy Forum 2022
DESCRIPTION:Power to the people: delivering energy justice through community energy &#8211\; Right to Energy Forum 2022
DTSTART:20220124T090000
DTEND:20220128T173000
URL;VALUE=URI:https://energy-cities.eu/event/right-to-energy-forum-2022/
DTSTAMP:now
UID:6597673e0a6cd
END:VEVENT
END:VCALENDAR