BEGIN:VCALENDAR
VERSION:2.0
PRODID:-//hacksw/handcal//NONSGML v1.0//EN
CALSCALE:GREGORIAN
BEGIN:VEVENT
LOCATION:
SUMMARY:Preparing for the EUCF second call &#8211\; Webinar for Latvian municipalities
DESCRIPTION:Preparing for the EUCF second call &#8211\; Webinar for Latvian municipalities
DTSTART:20210304T100000
DTEND:20210304T113000
URL;VALUE=URI:https://energy-cities.eu/event/preparing-for-the-eucf-second-call-webinar-in-latvian-language/
DTSTAMP:now
UID:65976ea4947dc
END:VEVENT
END:VCALENDAR