BEGIN:VCALENDAR
VERSION:2.0
PRODID:-//hacksw/handcal//NONSGML v1.0//EN
CALSCALE:GREGORIAN
BEGIN:VEVENT
LOCATION:
SUMMARY:Preparing for the EUCF second call – Webinar for Czech municipalities
DESCRIPTION:Preparing for the EUCF second call – Webinar for Czech municipalities
DTSTART:20210312T100000
DTEND:20210312T000000
URL;VALUE=URI:https://energy-cities.eu/event/preparing-for-the-eucf-second-call-webinar-for-czech-municipalities/
DTSTAMP:now
UID:659767ee6bd2d
END:VEVENT
END:VCALENDAR