BEGIN:VCALENDAR
VERSION:2.0
PRODID:-//hacksw/handcal//NONSGML v1.0//EN
CALSCALE:GREGORIAN
BEGIN:VEVENT
LOCATION:
SUMMARY:Produire notre énergie renouvelable citoyenne en Ile-de-France
DESCRIPTION:Produire notre énergie renouvelable citoyenne en Ile-de-France
DTSTART:20201127T093000
DTEND:20201127T123000
URL;VALUE=URI:https://energy-cities.eu/fr/evenement/produire-notre-energie-renouvelable-citoyenne-en-ile-de-france/
DTSTAMP:now
UID:659776efa8135
END:VEVENT
END:VCALENDAR