BEGIN:VCALENDAR
VERSION:2.0
PRODID:-//hacksw/handcal//NONSGML v1.0//EN
CALSCALE:GREGORIAN
BEGIN:VEVENT
LOCATION:
SUMMARY:Proven examples of innovative financing instruments &#8211\; Capacity building\, skills and competences of smart city practitioners 
DESCRIPTION:Proven examples of innovative financing instruments &#8211\; Capacity building\, skills and competences of smart city practitioners 
DTSTART:20221201T140000
DTEND:20221201T163000
URL;VALUE=URI:https://energy-cities.eu/event/proven-examples-of-innovative-financing-instruments-capacity-building-skills-and-competences-of-smart-city-practitioners-￼/
DTSTAMP:now
UID:65976544d4d69
END:VEVENT
END:VCALENDAR