BEGIN:VCALENDAR
VERSION:2.0
PRODID:-//hacksw/handcal//NONSGML v1.0//EN
CALSCALE:GREGORIAN
BEGIN:VEVENT
LOCATION:
SUMMARY:Putting people at the heart of energy transitions
DESCRIPTION:Putting people at the heart of energy transitions
DTSTART:20220428T090000
DTEND:20220429T003000
URL;VALUE=URI:https://energy-cities.eu/event/putting-people-at-the-heart-of-energy-transitions/
DTSTAMP:now
UID:659766b6568bc
END:VEVENT
END:VCALENDAR