BEGIN:VCALENDAR
VERSION:2.0
PRODID:-//hacksw/handcal//NONSGML v1.0//EN
CALSCALE:GREGORIAN
BEGIN:VEVENT
LOCATION:
SUMMARY:Q&#038\;A Session with Matthew Baldwin about the Call for Expression of Interest for 100 Climate neutral cities
DESCRIPTION:Q&#038\;A Session with Matthew Baldwin about the Call for Expression of Interest for 100 Climate neutral cities
DTSTART:20211217T150000
DTEND:20211217T163000
URL;VALUE=URI:https://energy-cities.eu/event/qa-session-with-matthew-baldwin-about-the-call-for-expression-of-interest-for-100-climate-neutral-cities/
DTSTAMP:now
UID:6597695f313d8
END:VEVENT
END:VCALENDAR